BEGIN:VCALENDAR
VERSION:2.0
PRODID:-//My Calendar//http://www.joedolson.com//v3.1.18//EN
METHOD:PUBLISH
CALSCALE:GREGORIAN
X-WR-CALNAME:Appreciative Inquiry Australia
X-PUBLISHED-TTL:PT24H
REFRESH-INTERVAL;VALUE=DURATION:PT24H
X-WR-CALDESC:Events from Appreciative Inquiry Australia
BEGIN:VEVENT
UID:58-60
LOCATION:Holmesglen at Eildon 92 Moore Road  Eildon  3713
SUMMARY:The Unconference 2015 VIC
DTSTAMP:20151124T000000
ORGANIZER;CN=Sue:MAILTO:suej@bjseminars.com.au
DTSTART;TZID=Etc/GMT-10:20151124T000000
DTEND;TZID=Etc/GMT-10:20151128T000000
URL;VALUE=URI:http://appreciativeinquiry.com.au/events/
DESCRIPTION:Eildon, VictoriaDiscover new ways of thinking! The Unconference is a unique and transformative gathering, bringing together like-minded people around large scale conversations that matter! 
CATEGORIES:Conference
END:VEVENT
BEGIN:VEVENT
UID:57-59
LOCATION:Hunter Valley Hotel Academy McLeod Road  Kurri Kurri New South Wales 2327
SUMMARY:The Unconference 2015 NSW
DTSTAMP:20150915T000000
ORGANIZER;CN=Sue:MAILTO:suej@bjseminars.com.au
DTSTART;TZID=Etc/GMT-10:20150915T000000
DTEND;TZID=Etc/GMT-10:20150919T000000
URL;VALUE=URI:http://appreciativeinquiry.com.au/events/
DESCRIPTION:Kurri Kurri, NSWDiscover new ways of thinking! The Unconference is a unique and transformative gathering, bringing together like-minded people around large scale conversations that matter! 
CATEGORIES:Conference
END:VEVENT
BEGIN:VEVENT
UID:56-58
LOCATION:South Yarra
SUMMARY:Complexity Tools and Resources
DTSTAMP:20150508T000000
ORGANIZER;CN=Sue:MAILTO:suej@bjseminars.com.au
DTSTART;TZID=Etc/GMT-10:20150508T000000
DTEND;TZID=Etc/GMT-10:20150509T000000
URL;VALUE=URI:http://appreciativeinquiry.com.au/events/
DESCRIPTION:This workshop is designed for people addressing complex challenges such as improving health, educational attainment, employment, climate change, crime and recidivism rates, developing new business markets or changing organisational culture. 
CATEGORIES:Training
END:VEVENT
BEGIN:VEVENT
UID:55-57
LOCATION:Bendigo
SUMMARY:Strengths Approach Training (3-Pt 2)
DTSTAMP:20151210T000000
ORGANIZER;CN=Sue:MAILTO:suej@bjseminars.com.au
DTSTART;TZID=Etc/GMT-10:20151210T000000
DTEND;TZID=Etc/GMT-10:20151211T000000
URL;VALUE=URI:http://appreciativeinquiry.com.au/events/
DESCRIPTION:Continuation of training from 12-13 November 
CATEGORIES:Training
END:VEVENT
BEGIN:VEVENT
UID:54-56
LOCATION:Bendigo
SUMMARY:Strengths Approach Training (2-Pt 2)
DTSTAMP:20150917T000000
ORGANIZER;CN=Sue:MAILTO:suej@bjseminars.com.au
DTSTART;TZID=Etc/GMT-10:20150917T000000
DTEND;TZID=Etc/GMT-10:20150918T000000
URL;VALUE=URI:http://appreciativeinquiry.com.au/events/
DESCRIPTION:Continuation of training from 12-13 August 
CATEGORIES:Training
END:VEVENT
BEGIN:VEVENT
UID:53-55
LOCATION:Bendigo
SUMMARY:Strengths Approach Training (1-Pt 2)
DTSTAMP:20150616T000000
ORGANIZER;CN=Sue:MAILTO:suej@bjseminars.com.au
DTSTART;TZID=Etc/GMT-10:20150616T000000
DTEND;TZID=Etc/GMT-10:20150617T000000
URL;VALUE=URI:http://appreciativeinquiry.com.au/events/
DESCRIPTION:Continuation of training from 4-5 May 
CATEGORIES:Training
END:VEVENT
BEGIN:VEVENT
UID:32-34
LOCATION:Shepparton
SUMMARY:Unleashing Appreciative Intelligence®: Shepparton
DTSTAMP:20150616T000000
ORGANIZER;CN=Sue:MAILTO:suej@bjseminars.com.au
DTSTART;TZID=Etc/GMT-10:20150616T000000
DTEND;TZID=Etc/GMT-10:20150616T000000
URL;VALUE=URI:http://appreciativeinquiry.com.au/events/
DESCRIPTION:Appreciative Intelligence®  enables people to be highly successful in work and in life;  to come up with fresh, innovative ideas, inspire others to join with them on their journey towards desired goals –  and ultimately reach those goals in spite of challenges or barriers encountered along the way.Appreciative Intelligence® is not simply ‘&lt;em&gt;positive thinking&lt;/em&gt;‘. People with this kind of intelligence are realistic and focus on action – they don’t just identify positive potential, they are able to act and take advantage of it. They not only ‘&lt;em&gt;see the oak in the acorn&lt;/em&gt;‘ but they do what it takes to make that oak tree grow and thrive.So how can you be similarly successful? How can you identify and expand your own capacity for Appreciative Intelligence®? This interactive, hands-on workshop will show you how, offering highly practical exercises to help you do so. 
CATEGORIES:Workshop
END:VEVENT
BEGIN:VEVENT
UID:52-54
LOCATION:Bendigo
SUMMARY:Strengths Approach Training (3-Pt 1)
DTSTAMP:20151112T000000
ORGANIZER;CN=Sue:MAILTO:suej@bjseminars.com.au
DTSTART;TZID=Etc/GMT-10:20151112T000000
DTEND;TZID=Etc/GMT-10:20151114T000000
URL;VALUE=URI:http://appreciativeinquiry.com.au/events/
DESCRIPTION:12-13 Nov &amp; 10 DecA highly interactive three day program! Everyone has strengths. Our qualities, capacities, relationships, values, stories, experiences, skills and material resources can all be strengths. But sometimes, 'The Problem' can be all-consuming, keeping us stuck and creating barriers to change. Strengths-based practice keeps the focus squarely on identifying, mobilising and celebrating strengths.The principles and skills of strengths-based practice include:Values and beliefs of the strengths approach; How 'Power Over' can occur and working towards 'Power With'; Creating conditions for change; Using the 5-column approach to implement plans; and key strength approach skills such as externalising, scaling, reframing and normalising. 
CATEGORIES:Training
END:VEVENT
BEGIN:VEVENT
UID:51-53
LOCATION:Castlemaine
SUMMARY:The Literary Therapist
DTSTAMP:20151012T000000
ORGANIZER;CN=Sue:MAILTO:suej@bjseminars.com.au
DTSTART;TZID=Etc/GMT-10:20151012T000000
DTEND;TZID=Etc/GMT-10:20151014T000000
URL;VALUE=URI:http://appreciativeinquiry.com.au/events/
DESCRIPTION: 
CATEGORIES:Workshop
END:VEVENT
BEGIN:VEVENT
UID:50-52
LOCATION:Bendigo
SUMMARY:Strengths Approach to Supervision
DTSTAMP:20151007T000000
ORGANIZER;CN=Sue:MAILTO:suej@bjseminars.com.au
DTSTART;TZID=Etc/GMT-10:20151007T000000
DTEND;TZID=Etc/GMT-10:20151009T000000
URL;VALUE=URI:http://appreciativeinquiry.com.au/events/
DESCRIPTION:This workshop is designed for anyone who gives or receives supervision. Using group discussion, exercises, demonstrations and hands-on tools, participants will learn to apply a strengths approach to a 'supervision team', with the aim of building reflective, creative and effective supervision relationships. This workshop includes: Core beliefs, principles and processes of strengths-based supervision; Values and competencies; Traditional supervision compared with a strengths-based approach; Exploring and auditing current supervision practice; What is 'good' supervision? How do we balance accountability, support, learning and education?; Exploring 'feedback' and building it into practice; Demonstration and practice of individual supervision and group supervision; and Planning your supervision goals. 
CATEGORIES:Training
END:VEVENT
BEGIN:VEVENT
UID:49-51
LOCATION:Bendigo
SUMMARY:Introduction to the Strengths Approach
DTSTAMP:20150908T000000
ORGANIZER;CN=Sue:MAILTO:suej@bjseminars.com.au
DTSTART;TZID=Etc/GMT-10:20150908T000000
DTEND;TZID=Etc/GMT-10:20150909T000000
URL;VALUE=URI:http://appreciativeinquiry.com.au/events/
DESCRIPTION:A highly interactive one-day workshop. Everyone has strengths. Our qualities, capacities, relationships, values, stories, experiences, skills and material resources can all be strengths. But sometimes, 'The Problem' can be all-consuming, keeping us stuck and creating barriers to change. Strengths-based practice keeps the focus squarely on identifying, mobilising and celebrating strengths.The principles and skills of strengths-based practice include:Values and beliefs of the strengths approach; How 'Power Over' can occur and working towards 'Power With'; Creating conditions for change; Using the 5-column approach to implement plans; and key strength approach skills such as externalising, scaling, reframing and normalising. 
CATEGORIES:Workshop
END:VEVENT
BEGIN:VEVENT
UID:48-50
LOCATION:Melbourne
SUMMARY:Tools of the Trade
DTSTAMP:20150820T000000
ORGANIZER;CN=Sue:MAILTO:suej@bjseminars.com.au
DTSTART;TZID=Etc/GMT-10:20150820T000000
DTEND;TZID=Etc/GMT-10:20150822T000000
URL;VALUE=URI:http://appreciativeinquiry.com.au/events/
DESCRIPTION:Participants will explore key strength-based principles, skills and questions, as well as the role of creativity in inspiring good practice and preventing burn out. They will leave with a myriad of invigorating ideas they can incorporate immediately into their work, using the tools and resources published by Innovative Resources. 
CATEGORIES:Workshop
END:VEVENT
BEGIN:VEVENT
UID:47-49
LOCATION:Bendigo
SUMMARY:Strengths Approach Training (2-Pt 1)
DTSTAMP:20150812T000000
ORGANIZER;CN=Sue:MAILTO:suej@bjseminars.com.au
DTSTART;TZID=Etc/GMT-10:20150812T000000
DTEND;TZID=Etc/GMT-10:20150814T000000
URL;VALUE=URI:http://appreciativeinquiry.com.au/events/
DESCRIPTION:12-13 Aug &amp; 17 SeptA highly interactive three day program! Everyone has strengths. Our qualities, capacities, relationships, values, stories, experiences, skills and material resources can all be strengths. But sometimes, 'The Problem' can be all-consuming, keeping us stuck and creating barriers to change. Strengths-based practice keeps the focus squarely on identifying, mobilising and celebrating strengths.The principles and skills of strengths-based practice include:Values and beliefs of the strengths approach; How 'Power Over' can occur and working towards 'Power With'; Creating conditions for change; Using the 5-column approach to implement plans; and key strength approach skills such as externalising, scaling, reframing and normalising. 
CATEGORIES:Training
END:VEVENT
BEGIN:VEVENT
UID:46-48
LOCATION:Melbourne
SUMMARY:Girltopia Tools Workshop
DTSTAMP:20150722T000000
ORGANIZER;CN=Sue:MAILTO:suej@bjseminars.com.au
DTSTART;TZID=Etc/GMT-10:20150722T000000
DTEND;TZID=Etc/GMT-10:20150723T000000
URL;VALUE=URI:http://appreciativeinquiry.com.au/events/
DESCRIPTION: 
CATEGORIES:Workshop
END:VEVENT
BEGIN:VEVENT
UID:45-47
LOCATION:Bendigo
SUMMARY:Strengths Approach to Supervision
DTSTAMP:20150720T000000
ORGANIZER;CN=Sue:MAILTO:suej@bjseminars.com.au
DTSTART;TZID=Etc/GMT-10:20150720T000000
DTEND;TZID=Etc/GMT-10:20150722T000000
URL;VALUE=URI:http://appreciativeinquiry.com.au/events/
DESCRIPTION:This workshop is designed for anyone who gives or receives supervision. Using group discussion, exercises, demonstrations and hands-on tools, participants will learn to apply a strengths approach to a 'supervision team', with the aim of building reflective, creative and effective supervision relationships. This workshop includes: Core beliefs, principles and processes of strengths-based supervision; Values and competencies; Traditional supervision compared with a strengths-based approach; Exploring and auditing current supervision practice; What is 'good' supervision? How do we balance accountability, support, learning and education?; Exploring 'feedback' and building it into practice; Demonstration and practice of individual supervision and group supervision; and Planning your supervision goals 
CATEGORIES:Training
END:VEVENT
BEGIN:VEVENT
UID:44-46
LOCATION:Melbourne
SUMMARY:Walking the Boundaries
DTSTAMP:20150617T000000
ORGANIZER;CN=Sue:MAILTO:suej@bjseminars.com.au
DTSTART;TZID=Etc/GMT-10:20150617T000000
DTEND;TZID=Etc/GMT-10:20150618T000000
URL;VALUE=URI:http://appreciativeinquiry.com.au/events/
DESCRIPTION: 
CATEGORIES:Workshop
END:VEVENT
BEGIN:VEVENT
UID:43-45
LOCATION:Bendigo
SUMMARY:Tools for Working with Families
DTSTAMP:20150520T000000
ORGANIZER;CN=Sue:MAILTO:suej@bjseminars.com.au
DTSTART;TZID=Etc/GMT-10:20150520T000000
DTEND;TZID=Etc/GMT-10:20150521T000000
URL;VALUE=URI:http://appreciativeinquiry.com.au/events/
DESCRIPTION: 
CATEGORIES:Workshop
END:VEVENT
BEGIN:VEVENT
UID:42-44
LOCATION:Bendigo
SUMMARY:Strengths Approach Training (1-Pt 1)
DTSTAMP:20150504T000000
ORGANIZER;CN=Sue:MAILTO:suej@bjseminars.com.au
DTSTART;TZID=Etc/GMT-10:20150504T000000
DTEND;TZID=Etc/GMT-10:20150506T000000
URL;VALUE=URI:http://appreciativeinquiry.com.au/events/
DESCRIPTION:4-5 May &amp; 16 JunA highly interactive three day program! Everyone has strengths. Our qualities, capacities, relationships, values, stories, experiences, skills and material resources can all be strengths. But sometimes, 'The Problem' can be all-consuming, keeping us stuck and creating barriers to change. Strengths-based practice keeps the focus squarely on identifying, mobilising and celebrating strengths.The principles and skills of strengths-based practice include:Values and beliefs of the strengths approach; How 'Power Over' can occur and working towards 'Power With'; Creating conditions for change; Using the 5-column approach to implement plans; and key strength approach skills such as externalising, scaling, reframing and normalising. 
CATEGORIES:Training
END:VEVENT
BEGIN:VEVENT
UID:41-43
LOCATION:Melbourne
SUMMARY:Gender Fairness, Tools Workshop
DTSTAMP:20150422T000000
ORGANIZER;CN=Sue:MAILTO:suej@bjseminars.com.au
DTSTART;TZID=Etc/GMT-10:20150422T000000
DTEND;TZID=Etc/GMT-10:20150423T000000
URL;VALUE=URI:http://appreciativeinquiry.com.au/events/
DESCRIPTION:In this workshop participants will: explore innovative and interactive ways to use the Gender Fairness cards, and other hands-on original tools; gain information and understanding about gender equity and explore why it is important to talk about it at work, in the home and in the community; use creative techniques such as writing, art, visual resources and questioning styles to explore and understand our own gendered attitudes and expectations; take away conversational tools and techniques for opening up and progressing discussions on topics such as power and control in the workplace, at home and in social settings. 
CATEGORIES:Workshop
END:VEVENT
BEGIN:VEVENT
UID:40-42
LOCATION:Bendigo
SUMMARY:Strengths Approach to Supervision
DTSTAMP:20150416T000000
ORGANIZER;CN=Sue:MAILTO:suej@bjseminars.com.au
DTSTART;TZID=Etc/GMT-10:20150416T000000
DTEND;TZID=Etc/GMT-10:20150418T000000
URL;VALUE=URI:http://appreciativeinquiry.com.au/events/
DESCRIPTION:This workshop is designed for anyone who gives or receives supervision. Using group discussion, exercises, demonstrations and hands-on tools, participants will learn to apply a strengths approach to a 'supervision team', with the aim of building reflective, creative and effective supervision relationships. This workshop includes: Core beliefs, principles and processes of strengths-based supervision; Values and competencies; Traditional supervision compared with a strengths-based approach; Exploring and auditing current supervision practice; What is 'good' supervision? How do we balance accountability, support, learning and education?; Exploring 'feedback' and building it into practice; Demonstration and practice of individual supervision and group supervision; and Planning your supervision goals. 
CATEGORIES:Training
END:VEVENT
BEGIN:VEVENT
UID:38-40
LOCATION:Bendigo
SUMMARY:Introduction to the Strengths Approach
DTSTAMP:20150325T000000
ORGANIZER;CN=Sue:MAILTO:suej@bjseminars.com.au
DTSTART;TZID=Etc/GMT-10:20150325T000000
DTEND;TZID=Etc/GMT-10:20150326T000000
URL;VALUE=URI:http://appreciativeinquiry.com.au/events/
DESCRIPTION:A highly interactive one day workshop. Everyone has strengths. Our qualities, capacities, relationships, values, stories, experiences, skills and material resources can all be strengths. But sometimes, 'The Problem' can be all-consuming, keeping us stuck and creating barriers to change. Strengths-based practice keeps the focus squarely on identifying, mobilising and celebrating strengths.The principles and skills of strengths-based practice include:Values and beliefs of the strengths approach; How 'Power Over' can occur and working towards 'Power With'; Creating conditions for change; Using the 5-column approach to implement plans; and key strength approach skills such as externalising, scaling, reframing and normalising. 
CATEGORIES:Workshop
END:VEVENT
BEGIN:VEVENT
UID:36-38
LOCATION:Adelaide
SUMMARY:Unleashing Appreciative Intelligence®: Adelaide
DTSTAMP:20151110T000000
ORGANIZER;CN=Sue:MAILTO:suej@bjseminars.com.au
DTSTART;TZID=Etc/GMT-10:20151110T000000
DTEND;TZID=Etc/GMT-10:20151110T000000
URL;VALUE=URI:http://appreciativeinquiry.com.au/events/
DESCRIPTION:Appreciative Intelligence®  enables people to be highly successful in work and in life;  to come up with fresh, innovative ideas, inspire others to join with them on their journey towards desired goals –  and ultimately reach those goals in spite of challenges or barriers encountered along the way.Appreciative Intelligence® is not simply ‘&lt;em&gt;positive thinking&lt;/em&gt;‘. People with this kind of intelligence are realistic and focus on action – they don’t just identify positive potential, they are able to act and take advantage of it. They not only ‘&lt;em&gt;see the oak in the acorn&lt;/em&gt;‘ but they do what it takes to make that oak tree grow and thrive.So how can you be similarly successful? How can you identify and expand your own capacity for Appreciative Intelligence®? This interactive, hands-on workshop will show you how, offering highly practical exercises to help you do so. 
CATEGORIES:Workshop
END:VEVENT
BEGIN:VEVENT
UID:35-37
LOCATION:Sydney
SUMMARY:Unleashing Appreciative Intelligence®: Sydney
DTSTAMP:20150922T000000
ORGANIZER;CN=Sue:MAILTO:suej@bjseminars.com.au
DTSTART;TZID=Etc/GMT-10:20150922T000000
DTEND;TZID=Etc/GMT-10:20150922T000000
URL;VALUE=URI:http://appreciativeinquiry.com.au/events/
DESCRIPTION:Appreciative Intelligence®  enables people to be highly successful in work and in life;  to come up with fresh, innovative ideas, inspire others to join with them on their journey towards desired goals –  and ultimately reach those goals in spite of challenges or barriers encountered along the way.Appreciative Intelligence® is not simply ‘&lt;em&gt;positive thinking&lt;/em&gt;‘. People with this kind of intelligence are realistic and focus on action – they don’t just identify positive potential, they are able to act and take advantage of it. They not only ‘&lt;em&gt;see the oak in the acorn&lt;/em&gt;‘ but they do what it takes to make that oak tree grow and thrive.So how can you be similarly successful? How can you identify and expand your own capacity for Appreciative Intelligence®? This interactive, hands-on workshop will show you how, offering highly practical exercises to help you do so. 
CATEGORIES:Workshop
END:VEVENT
BEGIN:VEVENT
UID:34-36
LOCATION:Brisbane
SUMMARY:Unleashing Appreciative Intelligence®: Brisbane
DTSTAMP:20150818T000000
ORGANIZER;CN=Sue:MAILTO:suej@bjseminars.com.au
DTSTART;TZID=Etc/GMT-10:20150818T000000
DTEND;TZID=Etc/GMT-10:20150818T000000
URL;VALUE=URI:http://appreciativeinquiry.com.au/events/
DESCRIPTION:Appreciative Intelligence®  enables people to be highly successful in work and in life;  to come up with fresh, innovative ideas, inspire others to join with them on their journey towards desired goals –  and ultimately reach those goals in spite of challenges or barriers encountered along the way.Appreciative Intelligence® is not simply ‘&lt;em&gt;positive thinking&lt;/em&gt;‘. People with this kind of intelligence are realistic and focus on action – they don’t just identify positive potential, they are able to act and take advantage of it. They not only ‘&lt;em&gt;see the oak in the acorn&lt;/em&gt;‘ but they do what it takes to make that oak tree grow and thrive.So how can you be similarly successful? How can you identify and expand your own capacity for Appreciative Intelligence®? This interactive, hands-on workshop will show you how, offering highly practical exercises to help you do so. 
CATEGORIES:Workshop
END:VEVENT
BEGIN:VEVENT
UID:33-35
LOCATION:Melbourne
SUMMARY:Unleashing Appreciative Intelligence®: Melbourne
DTSTAMP:20150623T000000
ORGANIZER;CN=Sue:MAILTO:suej@bjseminars.com.au
DTSTART;TZID=Etc/GMT-10:20150623T000000
DTEND;TZID=Etc/GMT-10:20150623T000000
URL;VALUE=URI:http://appreciativeinquiry.com.au/events/
DESCRIPTION:Appreciative Intelligence®  enables people to be highly successful in work and in life;  to come up with fresh, innovative ideas, inspire others to join with them on their journey towards desired goals –  and ultimately reach those goals in spite of challenges or barriers encountered along the way.Appreciative Intelligence® is not simply ‘&lt;em&gt;positive thinking&lt;/em&gt;‘. People with this kind of intelligence are realistic and focus on action – they don’t just identify positive potential, they are able to act and take advantage of it. They not only ‘&lt;em&gt;see the oak in the acorn&lt;/em&gt;‘ but they do what it takes to make that oak tree grow and thrive.So how can you be similarly successful? How can you identify and expand your own capacity for Appreciative Intelligence®? This interactive, hands-on workshop will show you how, offering highly practical exercises to help you do so. 
CATEGORIES:Workshop
END:VEVENT
BEGIN:VEVENT
UID:31-33
LOCATION:Sale
SUMMARY:Unleashing Appreciative Intelligence®: Sale
DTSTAMP:20150602T000000
ORGANIZER;CN=Sue:MAILTO:suej@bjseminars.com.au
DTSTART;TZID=Etc/GMT-10:20150602T000000
DTEND;TZID=Etc/GMT-10:20150602T000000
URL;VALUE=URI:http://appreciativeinquiry.com.au/events/
DESCRIPTION:Appreciative Intelligence®  enables people to be highly successful in work and in life;  to come up with fresh, innovative ideas, inspire others to join with them on their journey towards desired goals –  and ultimately reach those goals in spite of challenges or barriers encountered along the way.Appreciative Intelligence® is not simply ‘positive thinking‘. People with this kind of intelligence are realistic and focus on action – they don’t just identify positive potential, they are able to act and take advantage of it. They not only ‘see the oak in the acorn‘ but they do what it takes to make that oak tree grow and thrive.So how can you be similarly successful? How can you identify and expand your own capacity for Appreciative Intelligence®? This interactive, hands-on workshop will show you how, offering highly practical exercises to help you do so. 
CATEGORIES:Workshop
END:VEVENT
BEGIN:VEVENT
UID:30-32
LOCATION:Bendigo
SUMMARY:Unleashing Appreciative Intelligence®: Bendigo
DTSTAMP:20150414T000000
ORGANIZER;CN=Sue:MAILTO:suej@bjseminars.com.au
DTSTART;TZID=Etc/GMT-10:20150414T000000
DTEND;TZID=Etc/GMT-10:20150414T000000
URL;VALUE=URI:http://appreciativeinquiry.com.au/events/
DESCRIPTION:Appreciative Intelligence®  enables people to be highly successful in work and in life;  to come up with fresh, innovative ideas, inspire others to join with them on their journey towards desired goals –  and ultimately reach those goals in spite of challenges or barriers encountered along the way.Appreciative Intelligence® is not simply ‘positive thinking‘. People with this kind of intelligence are realistic and focus on action – they don’t just identify positive potential, they are able to act and take advantage of it. They not only ‘see the oak in the acorn‘ but they do what it takes to make that oak tree grow and thrive.So how can you be similarly successful? How can you identify and expand your own capacity for Appreciative Intelligence®? This interactive, hands-on workshop will show you how, offering highly practical exercises to help you do so. 
CATEGORIES:Workshop
END:VEVENT
BEGIN:VEVENT
UID:28-31
LOCATION:Johannesburg
SUMMARY:WAIC 2015 (South Africa)
DTSTAMP:20150706T000000
ORGANIZER;CN=Sue:MAILTO:suej@bjseminars.com.au
DTSTART;TZID=Etc/GMT-10:20150706T000000
DTEND;TZID=Etc/GMT-10:20150711T000000
URL;VALUE=URI:http://appreciativeinquiry.com.au/events/
DESCRIPTION:The World Appreciative Inquiry Conference takes place every three years and has been previously convened in the U.S., Nepal, and Belgium. In 2015 it is being held in the beautiful city of Johannesburg, South Africa. Come and join like minded people who are "Building Flourishing Societies Together: Elevating, Aligning and Reflecting our Best to Create a Prosperous World for All". 
CATEGORIES:Conference
END:VEVENT
BEGIN:VEVENT
UID:59-30
LOCATION:Adelaide
SUMMARY:A Taste of Appreciative Inquiry: Adelaide
DTSTAMP:20151109T000000
ORGANIZER;CN=Sue:MAILTO:suej@bjseminars.com.au
DTSTART;TZID=Etc/GMT-10:20151109T000000
DTEND;TZID=Etc/GMT-10:20151109T000000
URL;VALUE=URI:http://appreciativeinquiry.com.au/events/
DESCRIPTION:Ideal for anyone encountering Appreciative Inquiry for the first time, or wishing to reinforce learning about this powerful approach for planning and change. 
CATEGORIES:Workshop
END:VEVENT
BEGIN:VEVENT
UID:26-29
LOCATION:Sydney
SUMMARY:A Taste of Appreciative Inquiry: Sydney
DTSTAMP:20150921T000000
ORGANIZER;CN=Sue:MAILTO:suej@bjseminars.com.au
DTSTART;TZID=Etc/GMT-10:20150921T000000
DTEND;TZID=Etc/GMT-10:20150921T000000
URL;VALUE=URI:http://appreciativeinquiry.com.au/events/
DESCRIPTION:Ideal for anyone encountering Appreciative Inquiry for the first time, or wishing to reinforce learning about this powerful approach for planning and change. 
CATEGORIES:Workshop
END:VEVENT
END:VCALENDAR